BEGIN:VCALENDAR
VERSION:2.0
PRODID:-//Luzerne/Schuylkill Workforce Investment Board, Inc. - ECPv6.15.20//NONSGML v1.0//EN
CALSCALE:GREGORIAN
METHOD:PUBLISH
X-WR-CALNAME:Luzerne/Schuylkill Workforce Investment Board, Inc.
X-ORIGINAL-URL:https://lswib.org
X-WR-CALDESC:Events for Luzerne/Schuylkill Workforce Investment Board, Inc.
REFRESH-INTERVAL;VALUE=DURATION:PT1H
X-Robots-Tag:noindex
X-PUBLISHED-TTL:PT1H
BEGIN:VTIMEZONE
TZID:America/New_York
BEGIN:DAYLIGHT
TZOFFSETFROM:-0500
TZOFFSETTO:-0400
TZNAME:EDT
DTSTART:20250309T070000
END:DAYLIGHT
BEGIN:STANDARD
TZOFFSETFROM:-0400
TZOFFSETTO:-0500
TZNAME:EST
DTSTART:20251102T060000
END:STANDARD
BEGIN:DAYLIGHT
TZOFFSETFROM:-0500
TZOFFSETTO:-0400
TZNAME:EDT
DTSTART:20260308T070000
END:DAYLIGHT
BEGIN:STANDARD
TZOFFSETFROM:-0400
TZOFFSETTO:-0500
TZNAME:EST
DTSTART:20261101T060000
END:STANDARD
BEGIN:DAYLIGHT
TZOFFSETFROM:-0500
TZOFFSETTO:-0400
TZNAME:EDT
DTSTART:20270314T070000
END:DAYLIGHT
BEGIN:STANDARD
TZOFFSETFROM:-0400
TZOFFSETTO:-0500
TZNAME:EST
DTSTART:20271107T060000
END:STANDARD
END:VTIMEZONE
BEGIN:VEVENT
DTSTART;TZID=America/New_York:20260224T083000
DTEND;TZID=America/New_York:20260224T093000
DTSTAMP:20260419T173643
CREATED:20251211T135022Z
LAST-MODIFIED:20251211T161238Z
UID:6098-1771921800-1771925400@lswib.org
SUMMARY:Finance/Fiscal Committee Meeting
DESCRIPTION:8:30 am
URL:https://lswib.org/e/finance-fiscal-committee-meeting/
LOCATION:PA
END:VEVENT
BEGIN:VEVENT
DTSTART;TZID=America/New_York:20260304T083000
DTEND;TZID=America/New_York:20260304T093000
DTSTAMP:20260419T173643
CREATED:20251211T161409Z
LAST-MODIFIED:20251211T161426Z
UID:6115-1772613000-1772616600@lswib.org
SUMMARY:Executive Committee Meeting
DESCRIPTION:8:30 am
URL:https://lswib.org/e/executive-committee-meeting-2/
LOCATION:L/S WDB\, 32 E. Union St.\, 2nd Floor\, Wilkes-Barre\, PA\, 18701\, United States
END:VEVENT
BEGIN:VEVENT
DTSTART;TZID=America/New_York:20260401T083000
DTEND;TZID=America/New_York:20260401T083000
DTSTAMP:20260419T173643
CREATED:20251211T161507Z
LAST-MODIFIED:20251211T161602Z
UID:6120-1775032200-1775032200@lswib.org
SUMMARY:Executive Committee Meeting
DESCRIPTION:8:30 am
URL:https://lswib.org/e/executive-committee-meeting-2-2/
LOCATION:L/S WDB\, 32 E. Union St.\, 2nd Floor\, Wilkes-Barre\, PA\, 18701\, United States
END:VEVENT
BEGIN:VEVENT
DTSTART;TZID=America/New_York:20260506T083000
DTEND;TZID=America/New_York:20260506T083000
DTSTAMP:20260419T173643
CREATED:20251211T162354Z
LAST-MODIFIED:20251211T162354Z
UID:6124-1778056200-1778056200@lswib.org
SUMMARY:Executive Committee Meeting
DESCRIPTION:8:30 am
URL:https://lswib.org/e/executive-committee-meeting-2-2-2/
LOCATION:L/S WDB\, 32 E. Union St.\, 2nd Floor\, Wilkes-Barre\, PA\, 18701\, United States
END:VEVENT
END:VCALENDAR